BEGIN:VCALENDAR
VERSION:2.0
PRODID:-//Palmira Golf &amp; Country Club - ECPv6.15.20//NONSGML v1.0//EN
CALSCALE:GREGORIAN
METHOD:PUBLISH
X-ORIGINAL-URL:https://www.palmiragolf.com
X-WR-CALDESC:Events for Palmira Golf &amp; Country Club
REFRESH-INTERVAL;VALUE=DURATION:PT1H
X-Robots-Tag:noindex
X-PUBLISHED-TTL:PT1H
BEGIN:VTIMEZONE
TZID:America/Toronto
BEGIN:DAYLIGHT
TZOFFSETFROM:-0500
TZOFFSETTO:-0400
TZNAME:EDT
DTSTART:20220313T070000
END:DAYLIGHT
BEGIN:STANDARD
TZOFFSETFROM:-0400
TZOFFSETTO:-0500
TZNAME:EST
DTSTART:20221106T060000
END:STANDARD
BEGIN:DAYLIGHT
TZOFFSETFROM:-0500
TZOFFSETTO:-0400
TZNAME:EDT
DTSTART:20230312T070000
END:DAYLIGHT
BEGIN:STANDARD
TZOFFSETFROM:-0400
TZOFFSETTO:-0500
TZNAME:EST
DTSTART:20231105T060000
END:STANDARD
BEGIN:DAYLIGHT
TZOFFSETFROM:-0500
TZOFFSETTO:-0400
TZNAME:EDT
DTSTART:20240310T070000
END:DAYLIGHT
BEGIN:STANDARD
TZOFFSETFROM:-0400
TZOFFSETTO:-0500
TZNAME:EST
DTSTART:20241103T060000
END:STANDARD
END:VTIMEZONE
BEGIN:VEVENT
DTSTART;VALUE=DATE:20230805
DTEND;VALUE=DATE:20230807
DTSTAMP:20260420T232622
CREATED:20230620T191407Z
LAST-MODIFIED:20230620T191407Z
UID:7102-1691193600-1691366399@www.palmiragolf.com
SUMMARY:Lake Porter Amateur 2023
DESCRIPTION:Date: August 5-6\, 2023 \nTwo ways to sign up \n\nRegister online at https://www.lakeportertourney.com\nDrop entry form and payment directly to Palmira Golf Club\, or call Palmira Golf Shop: (219) 365-4331 to sign up by phone. Last day of registration is July 28\, 2023\n\nEntry Fee: $120 (under 60); $90 (60 and over); $70 (Junior) \nFlights: Championship (under 8 hdcp) | Mid-Handicap (8 hdcp and above) | Senior (50+ years old) | Super Senior (60+ years old) | Women | Junior (under 17 years old) \nFormat: 2-Day Tourney for all participants. Low 36-hole total score in each flight determines Tournament Champion\, Trophy Flags\, & Gift Certificates to Top Finishers \nTee Times: Will be posted July 29th by 9:00pm
URL:https://www.palmiragolf.com/event/lake-porter-amateur-2023/
ATTACH;FMTTYPE=application/pdf:https://www.palmiragolf.com/wp-content/uploads/2023/06/logo-pdf31.pdf
END:VEVENT
END:VCALENDAR