BEGIN:VCALENDAR
VERSION:2.0
PRODID:-//Palmira Golf &amp; Country Club - ECPv6.15.20//NONSGML v1.0//EN
CALSCALE:GREGORIAN
METHOD:PUBLISH
X-WR-CALNAME:Palmira Golf &amp; Country Club
X-ORIGINAL-URL:https://www.palmiragolf.com
X-WR-CALDESC:Events for Palmira Golf &amp; Country Club
REFRESH-INTERVAL;VALUE=DURATION:PT1H
X-Robots-Tag:noindex
X-PUBLISHED-TTL:PT1H
BEGIN:VTIMEZONE
TZID:America/Toronto
BEGIN:DAYLIGHT
TZOFFSETFROM:-0500
TZOFFSETTO:-0400
TZNAME:EDT
DTSTART:20240310T070000
END:DAYLIGHT
BEGIN:STANDARD
TZOFFSETFROM:-0400
TZOFFSETTO:-0500
TZNAME:EST
DTSTART:20241103T060000
END:STANDARD
BEGIN:DAYLIGHT
TZOFFSETFROM:-0500
TZOFFSETTO:-0400
TZNAME:EDT
DTSTART:20250309T070000
END:DAYLIGHT
BEGIN:STANDARD
TZOFFSETFROM:-0400
TZOFFSETTO:-0500
TZNAME:EST
DTSTART:20251102T060000
END:STANDARD
BEGIN:DAYLIGHT
TZOFFSETFROM:-0500
TZOFFSETTO:-0400
TZNAME:EDT
DTSTART:20260308T070000
END:DAYLIGHT
BEGIN:STANDARD
TZOFFSETFROM:-0400
TZOFFSETTO:-0500
TZNAME:EST
DTSTART:20261101T060000
END:STANDARD
END:VTIMEZONE
BEGIN:VEVENT
DTSTART;TZID=America/Toronto:20250705T090000
DTEND;TZID=America/Toronto:20250705T130000
DTSTAMP:20260419T082842
CREATED:20250617T124314Z
LAST-MODIFIED:20250617T124314Z
UID:8079-1751706000-1751720400@www.palmiragolf.com
SUMMARY:Blue\, White\, & Red Scramble
DESCRIPTION:Saturday July 5th \nTee times start at 9am \n4-person scramble format with a twist: \nFirst 6 holes (1-6) everyone tees off from the blue tees \nThe next 6 holes (7-12) everyone tees off from the white tees \nThe last 6 holes (13-18) everyone tees off from the red tees \nEntry Fee: $75 per person \nIncludes: golf\, cart\, range\, food\, beverages\, and prizes
URL:https://www.palmiragolf.com/event/blue-white-red-scramble-2/
END:VEVENT
END:VCALENDAR