BEGIN:VCALENDAR
VERSION:2.0
PRODID:-//Palmira Golf &amp; Country Club - ECPv6.15.20//NONSGML v1.0//EN
CALSCALE:GREGORIAN
METHOD:PUBLISH
X-WR-CALNAME:Palmira Golf &amp; Country Club
X-ORIGINAL-URL:https://www.palmiragolf.com
X-WR-CALDESC:Events for Palmira Golf &amp; Country Club
REFRESH-INTERVAL;VALUE=DURATION:PT1H
X-Robots-Tag:noindex
X-PUBLISHED-TTL:PT1H
BEGIN:VTIMEZONE
TZID:America/Toronto
BEGIN:DAYLIGHT
TZOFFSETFROM:-0500
TZOFFSETTO:-0400
TZNAME:EDT
DTSTART:20180311T070000
END:DAYLIGHT
BEGIN:STANDARD
TZOFFSETFROM:-0400
TZOFFSETTO:-0500
TZNAME:EST
DTSTART:20181104T060000
END:STANDARD
BEGIN:DAYLIGHT
TZOFFSETFROM:-0500
TZOFFSETTO:-0400
TZNAME:EDT
DTSTART:20190310T070000
END:DAYLIGHT
BEGIN:STANDARD
TZOFFSETFROM:-0400
TZOFFSETTO:-0500
TZNAME:EST
DTSTART:20191103T060000
END:STANDARD
BEGIN:DAYLIGHT
TZOFFSETFROM:-0500
TZOFFSETTO:-0400
TZNAME:EDT
DTSTART:20200308T070000
END:DAYLIGHT
BEGIN:STANDARD
TZOFFSETFROM:-0400
TZOFFSETTO:-0500
TZNAME:EST
DTSTART:20201101T060000
END:STANDARD
END:VTIMEZONE
BEGIN:VEVENT
DTSTART;TZID=America/Toronto:20190410T080000
DTEND;TZID=America/Toronto:20190413T170000
DTSTAMP:20260419T232800
CREATED:20190404T160932Z
LAST-MODIFIED:20190404T165749Z
UID:4739-1554883200-1555174800@www.palmiragolf.com
SUMMARY:Masters Event
DESCRIPTION:Play with you favorite tour player\nYour score and your tour player determine your total\n$5 entry cash payout each day + green fee\nPlay one or all four days.\nPrizes will be flighted
URL:https://www.palmiragolf.com/event/masters-event/
ATTACH;FMTTYPE=image/png:https://www.palmiragolf.com/wp-content/uploads/2019/04/MastersTournamentLogo.svg_.png
END:VEVENT
END:VCALENDAR