BEGIN:VCALENDAR
VERSION:2.0
PRODID:-//Palmira Golf &amp; Country Club - ECPv6.15.20//NONSGML v1.0//EN
CALSCALE:GREGORIAN
METHOD:PUBLISH
X-WR-CALNAME:Palmira Golf &amp; Country Club
X-ORIGINAL-URL:https://www.palmiragolf.com
X-WR-CALDESC:Events for Palmira Golf &amp; Country Club
REFRESH-INTERVAL;VALUE=DURATION:PT1H
X-Robots-Tag:noindex
X-PUBLISHED-TTL:PT1H
BEGIN:VTIMEZONE
TZID:America/Toronto
BEGIN:DAYLIGHT
TZOFFSETFROM:-0500
TZOFFSETTO:-0400
TZNAME:EDT
DTSTART:20200308T070000
END:DAYLIGHT
BEGIN:STANDARD
TZOFFSETFROM:-0400
TZOFFSETTO:-0500
TZNAME:EST
DTSTART:20201101T060000
END:STANDARD
BEGIN:DAYLIGHT
TZOFFSETFROM:-0500
TZOFFSETTO:-0400
TZNAME:EDT
DTSTART:20210314T070000
END:DAYLIGHT
BEGIN:STANDARD
TZOFFSETFROM:-0400
TZOFFSETTO:-0500
TZNAME:EST
DTSTART:20211107T060000
END:STANDARD
BEGIN:DAYLIGHT
TZOFFSETFROM:-0500
TZOFFSETTO:-0400
TZNAME:EDT
DTSTART:20220313T070000
END:DAYLIGHT
BEGIN:STANDARD
TZOFFSETFROM:-0400
TZOFFSETTO:-0500
TZNAME:EST
DTSTART:20221106T060000
END:STANDARD
END:VTIMEZONE
BEGIN:VEVENT
DTSTART;VALUE=DATE:20211204
DTEND;VALUE=DATE:20211205
DTSTAMP:20260422T075754
CREATED:20211115T035105Z
LAST-MODIFIED:20211115T035105Z
UID:6583-1638576000-1638662399@www.palmiragolf.com
SUMMARY:Snowman Scramble
DESCRIPTION:Saturday December 4th \nShotgun start at 10am \n4-person Scramble Format \nEntry Fee: $55 per person \nIncludes: golf\, cart\, range\, food\, beverages\, and prizes
URL:https://www.palmiragolf.com/event/snowman-scramble-2/
END:VEVENT
END:VCALENDAR