BEGIN:VCALENDAR
VERSION:2.0
PRODID:-//Palmira Golf &amp; Country Club - ECPv6.15.20//NONSGML v1.0//EN
CALSCALE:GREGORIAN
METHOD:PUBLISH
X-WR-CALNAME:Palmira Golf &amp; Country Club
X-ORIGINAL-URL:https://www.palmiragolf.com
X-WR-CALDESC:Events for Palmira Golf &amp; Country Club
REFRESH-INTERVAL;VALUE=DURATION:PT1H
X-Robots-Tag:noindex
X-PUBLISHED-TTL:PT1H
BEGIN:VTIMEZONE
TZID:America/Toronto
BEGIN:DAYLIGHT
TZOFFSETFROM:-0500
TZOFFSETTO:-0400
TZNAME:EDT
DTSTART:20220313T070000
END:DAYLIGHT
BEGIN:STANDARD
TZOFFSETFROM:-0400
TZOFFSETTO:-0500
TZNAME:EST
DTSTART:20221106T060000
END:STANDARD
BEGIN:DAYLIGHT
TZOFFSETFROM:-0500
TZOFFSETTO:-0400
TZNAME:EDT
DTSTART:20230312T070000
END:DAYLIGHT
BEGIN:STANDARD
TZOFFSETFROM:-0400
TZOFFSETTO:-0500
TZNAME:EST
DTSTART:20231105T060000
END:STANDARD
BEGIN:DAYLIGHT
TZOFFSETFROM:-0500
TZOFFSETTO:-0400
TZNAME:EDT
DTSTART:20240310T070000
END:DAYLIGHT
BEGIN:STANDARD
TZOFFSETFROM:-0400
TZOFFSETTO:-0500
TZNAME:EST
DTSTART:20241103T060000
END:STANDARD
END:VTIMEZONE
BEGIN:VEVENT
DTSTART;TZID=America/Toronto:20230701T090000
DTEND;TZID=America/Toronto:20230701T130000
DTSTAMP:20260420T232623
CREATED:20230620T155305Z
LAST-MODIFIED:20230620T155305Z
UID:7096-1688202000-1688216400@www.palmiragolf.com
SUMMARY:Red White & Blue Scramble
DESCRIPTION:*Payment is due when you receive a tee time.
URL:https://www.palmiragolf.com/event/red-white-blue-scramble-2/
END:VEVENT
BEGIN:VEVENT
DTSTART;TZID=America/Toronto:20230702T090000
DTEND;TZID=America/Toronto:20230702T130000
DTSTAMP:20260420T232623
CREATED:20230620T155419Z
LAST-MODIFIED:20230620T155419Z
UID:7099-1688288400-1688302800@www.palmiragolf.com
SUMMARY:Blue White & Red Scramble
DESCRIPTION:*Payment is due when you receive a tee time.
URL:https://www.palmiragolf.com/event/blue-white-red-scramble/
END:VEVENT
BEGIN:VEVENT
DTSTART;TZID=America/Toronto:20230723T100000
DTEND;TZID=America/Toronto:20230723T130000
DTSTAMP:20260420T232624
CREATED:20230710T191253Z
LAST-MODIFIED:20230710T191814Z
UID:7120-1690106400-1690117200@www.palmiragolf.com
SUMMARY:Couples Scramble 2023
DESCRIPTION:10:00 am tee time start \n2-person team \n9 holes scramble \n9 holes alternate shot \nEntry Fee: $95 per couple \nIncludes golf\, cart\, range\, food\, beverages\, & prizes \n*Optional Skin Game \n*This is a prepaid event. Payment is due when you sign up.
URL:https://www.palmiragolf.com/event/couples-scramble-2023/
END:VEVENT
END:VCALENDAR